BEGIN:VCALENDAR
VERSION:2.0
PRODID:-//Syncopation Society - ECPv5.16.1.1//NONSGML v1.0//EN
CALSCALE:GREGORIAN
METHOD:PUBLISH
X-WR-CALNAME:Syncopation Society
X-ORIGINAL-URL:https://syncopation.de
X-WR-CALDESC:Events for Syncopation Society
REFRESH-INTERVAL;VALUE=DURATION:PT1H
X-Robots-Tag:noindex
X-PUBLISHED-TTL:PT1H
BEGIN:VTIMEZONE
TZID:Europe/Berlin
BEGIN:DAYLIGHT
TZOFFSETFROM:+0100
TZOFFSETTO:+0200
TZNAME:CEST
DTSTART:20240331T010000
END:DAYLIGHT
BEGIN:STANDARD
TZOFFSETFROM:+0200
TZOFFSETTO:+0100
TZNAME:CET
DTSTART:20241027T010000
END:STANDARD
END:VTIMEZONE
BEGIN:VEVENT
DTSTART;TZID=Europe/Berlin:20240113T080000
DTEND;TZID=Europe/Berlin:20240113T200000
DTSTAMP:20260420T104502
CREATED:20240112T033722Z
LAST-MODIFIED:20240112T033722Z
UID:6235-1705132800-1705176000@syncopation.de
SUMMARY:The Toolbox Orchestra @ Yorkschlösschen
DESCRIPTION:The Toolbox Orchestra is an exotic one-in-a-million-band\, even for their notorious adopted home town Berlin: They are an all-female band and originally started out on instruments straight from the workshop like singing saw and washtub bass. Add in the zing of banjo\, guitar\, trumpet\, and clarinet\, and voila! You’ve got a sonic cocktail that’s as sprightly as it is unique\, channelling the playful spirit of early 1920s and early 30s music.\nAnd there’s more to The Toolbox Orchestra than meets the ear. They’ve shared the spotlight with Jazz New Orleans star-singer Meschiya Lake\, rocked Swing Dance Festivals from Germany to the cosmos\, and even sprinkled their magic at the Berlin Short Film Festival\, Interfilm 2020.
URL:https://syncopation.de/event/the-toolbox-orchestra-yorkschlosschen/
LOCATION:Yorckschlösschen\, Yorckstraße 15\, Berlin\, 10965
ATTACH;FMTTYPE=image/png:https://syncopation.de/wp-content/uploads/Screenshot-2024-01-12-at-04.35.18.png
END:VEVENT
BEGIN:VEVENT
DTSTART;TZID=Europe/Berlin:20240116T070000
DTEND;TZID=Europe/Berlin:20240116T170000
DTSTAMP:20260420T104502
CREATED:20240112T034424Z
LAST-MODIFIED:20240112T034424Z
UID:6243-1705388400-1705424400@syncopation.de
SUMMARY:Jam Cats Session with The Big Five
DESCRIPTION:The Big Five is back at the Jam Cats with a “Balboa Special”. Storm’s brewing\, better roll in early!\n\nJohannes Böhmer – Trumpet\nDaniel Duspiwa- Tenor Sax\nFlorent Mannant – Bari Sax\nJack B Latimer – Guitar\nAndrej Hermlin – Piano\nMalte Tönißen – Bass\nDavid Hermlin- Drums
URL:https://syncopation.de/event/jam-cats-session-with-the-big-five/
LOCATION:Crack Bellmer\, Revaler Str. 99\, Berlin\, Berlin\, 10245\, Germany
ATTACH;FMTTYPE=image/jpeg:https://syncopation.de/wp-content/uploads/Jam-Cats-Big5.jpg
END:VEVENT
BEGIN:VEVENT
DTSTART;TZID=Europe/Berlin:20240119T080000
DTEND;TZID=Europe/Berlin:20240119T170000
DTSTAMP:20260420T104502
CREATED:20240114T070850Z
LAST-MODIFIED:20240114T093159Z
UID:6263-1705651200-1705683600@syncopation.de
SUMMARY:Schuhbert & his Friends of Rhythm @ Nachtvogel
DESCRIPTION:Come by for a night of sweet and hot jazz !!! \nwith George Aschmann – violin/voc\nLeo Gerstner – drums\nLaurin Schuhbert – reeds/voc\nand a couple more people\nDonations welcome.\nand by the way\,\nSINBAR is now called NACHTVOGEL…
URL:https://syncopation.de/event/6263/
LOCATION:Nachtvogel (fka Sin Bar)\, Oranienstr.39 \, Berlin\, Germany\, Berlin\, Berlin\, 10999\, Germany
ATTACH;FMTTYPE=image/jpeg:https://syncopation.de/wp-content/uploads/418281493_1834028683721689_7996136803316451005_n.jpg
END:VEVENT
BEGIN:VEVENT
DTSTART;TZID=Europe/Berlin:20240121T180000
DTEND;TZID=Europe/Berlin:20240121T210000
DTSTAMP:20260420T104502
CREATED:20240110T183323Z
LAST-MODIFIED:20240110T183417Z
UID:6229-1705860000-1705870800@syncopation.de
SUMMARY:Rufus Temple Orchestra // SWING im bloc // Eberswalde
DESCRIPTION:Wir laden Dich herzlich zu unseren monatlichen Swing-Tanzveranstaltungen im bloc.Cafe Eberswalde ein! Hier kannst Du das Tanzbein schwingen und bei köstlichem Speis‘ und Trank den Jazz der 1920er und 30er Jahre genießen. \nUnser neues Format wird von der mitreißenden Musik des „Rufus Temple Orchestra“ begleitet. Du wirst in eine Zeit versetzt\, in der der Swing die Tanzflächen eroberte und wo in jeder un/anständigen Bar eine Liveband spielte. \nUnsere Veranstaltungen sind der Treffpunkt für Tanz- und Swingbegeisterte und diejenigen\, die es noch werden wollen. Die Workshops werden von Giedre aka „Dizzy Ella“ und Camille vom Balboa Swing Club Berlin geleitet. In lockerer Atmosphäre geht sie dabei auf Eure Wünsche und Fragen ein und unterrichtet Lindy Hop\, Balboa & Charleston. \nEgal\, ob Du eine erfahrene Tänzerin bist\, Tanzen lernen möchtest\, oder ob Du einfach gern bei einem guten Getränk der Musik lauschst – bei uns sind alle willkommen! \nLass den Alltagsstress hinter Dir und tauche ein in die lebendige Atmosphäre des Swing! \nWann:\nJeden 3. Sonntag im Monat (START 19.11.2023)\n18 – 19 Uhr Workshop\n19 – 21 Uhr Tanzabend + Livemusik \nTickets an der Abendkasse:\n20€ regulär / 15€ ermäßigt \nWo:\nbloc.Cafe im Rofinpark\nCoppistr. 3\n16227 Eberswalde \nwww.rufus-temple.de\nwww.balswing.de\nwww.bloc-cafe.de
URL:https://syncopation.de/event/rufus-temple-orchestra-swing-im-bloc-eberswalde/
LOCATION:bloc.café Eberswalde\, Coppistr 3 - In der Boulderhalle\, Eberswalde\, Brandenburg\, 16227\, Germany
ATTACH;FMTTYPE=image/jpeg:https://syncopation.de/wp-content/uploads/SWING-im-bloc-klein-1.jpg
END:VEVENT
BEGIN:VEVENT
DTSTART;TZID=Europe/Berlin:20240124T200000
DTEND;TZID=Europe/Berlin:20240124T200000
DTSTAMP:20260420T104502
CREATED:20240114T070549Z
LAST-MODIFIED:20240114T070549Z
UID:6260-1706126400-1706126400@syncopation.de
SUMMARY:STRINGBAND LOWDOWN
DESCRIPTION:Come by for Berlin’s one and only Stringbandnight!\nAnd you’ll hear some Yodeling Blues\, Murder Ballads\, Ragtime Hits\nand maybe even some jazzz ! as played by the Mississippi Sheiks\, Bessie Smith\, Jimmy Rodgers and others.\n\nThis month on a WEDNESDAY NIGHT\nwith\nGeorge Aschmann – violin/vocals\nJack B.Latimer – Guitar/vocals\nLaurin H.Schuhbert – basssaxophone/clarinet\nand guests\n\nhearty kitchen\, entrance is donation-based and we recommend booking a table.
URL:https://syncopation.de/event/stringband-lowdown-3/
LOCATION:Yorckschlösschen\, Yorckstraße 15\, Berlin\, 10965
ATTACH;FMTTYPE=image/jpeg:https://syncopation.de/wp-content/uploads/419218347_1835787606879130_8807819837668444982_n.jpg
END:VEVENT
BEGIN:VEVENT
DTSTART;TZID=Europe/Berlin:20240127T200000
DTEND;TZID=Europe/Berlin:20240127T230000
DTSTAMP:20260420T104502
CREATED:20240114T093522Z
LAST-MODIFIED:20240114T093552Z
UID:6269-1706385600-1706396400@syncopation.de
SUMMARY:Swingtanzen Macht Froh w/ The Big Five
DESCRIPTION:The beautiful hall at Tangotanzen macht schön is just begging for a swinging evening. And so shall it be! Come and enjoy the finest live music in a brand new location with a wonderful parquet floor\, professional ventilation\, and\, of course\, glorious sound system. And a piano.\nEintritt 15-20€\, sliding scale\n\n20:00-21:00 Swing course for complete beginners (20€\, includes party entry)\n21:00-22:00 Social dance floor opens with DJ\n22:00-00:00 Live music with the Big Five\n00:00-close DJ
URL:https://syncopation.de/event/swingtanzen-macht-froh-w-the-big-five/
LOCATION:Tangotanzen macht schön\, Oranienstraße 185\, Berlin\, Deutschland\, 10999\, Germany
ATTACH;FMTTYPE=image/jpeg:https://syncopation.de/wp-content/uploads/402640937_768278661978734_7877780143454477605_n.jpg
END:VEVENT
END:VCALENDAR